BEGIN:VCALENDAR
VERSION:2.0
METHOD:PUBLISH
PRODID:-//Accessible Web Design//My Calendar//http://www.joedolson.com//v//EN';
BEGIN:VEVENT
UID:9-4
LOCATION:
SUMMARY:Leadership Conference Day 2
DTSTAMP:20230922T190000
ORGANIZER;CN=Faith Baptist Church:MAILTO:kidzmenuz@gmail.com
DTSTART:20230922T190000
DTEND:20230922T200000
CATEGORIES:General
URL;VALUE=URI:https://faithbaptistlc.com/mc-events/leadership-conference-day-2/?mc_id=9
DESCRIPTION;ENCODING=QUOTED-PRINTABLE:The conference starts at 7 P.M.
END:VEVENT
END:VCALENDAR