BEGIN:VCALENDAR
VERSION:2.0
METHOD:PUBLISH
PRODID:-//Accessible Web Design//My Calendar//http://www.joedolson.com//v//EN';
BEGIN:VEVENT
UID:8-3
LOCATION:
SUMMARY:Leadership Conference Day 1
DTSTAMP:20230921T190000
ORGANIZER;CN=Faith Baptist Church:MAILTO:kidzmenuz@gmail.com
DTSTART:20230921T190000
DTEND:20230921T203000
CATEGORIES:General
URL;VALUE=URI:https://faithbaptistlc.com/mc-events/leadership-conference-day-1/?mc_id=8
DESCRIPTION;ENCODING=QUOTED-PRINTABLE:The conference starts at 7 P.M.
END:VEVENT
END:VCALENDAR