BEGIN:VCALENDAR
VERSION:2.0
METHOD:PUBLISH
PRODID:-//Accessible Web Design//My Calendar//http://www.joedolson.com//v//EN';
BEGIN:VEVENT
UID:3-2
LOCATION:Faith Baptist Church
SUMMARY:Faith Baptist Church 8th Anniversary
DTSTAMP:20230730
ORGANIZER;CN=Faith Baptist Church:MAILTO:kidzmenuz@gmail.com
DTSTART:20230730
DTEND:20230731
CATEGORIES:General
URL;VALUE=URI:https://faithbaptistlc.com/mc-events/faith-baptist-church-8th-anniversary/?mc_id=3
DESCRIPTION;ENCODING=QUOTED-PRINTABLE:There will be a meal after the morning service. Austin Gardner will be preaching.
X-FUNAMBOL-ALLDAY: 1
X-MICROSOFT-CDO-ALLDAYEVENT: TRUE

END:VEVENT
END:VCALENDAR