BEGIN:VCALENDAR
VERSION:2.0
METHOD:PUBLISH
PRODID:-//Accessible Web Design//My Calendar//http://www.joedolson.com//v//EN';
BEGIN:VEVENT
UID:11-6
LOCATION:
SUMMARY:Leadership Conference Day 4 (International Day)
DTSTAMP:20230924
ORGANIZER;CN=Faith Baptist Church:MAILTO:kidzmenuz@gmail.com
DTSTART:20230924
DTEND:20230925
CATEGORIES:General
URL;VALUE=URI:https://faithbaptistlc.com/mc-events/leadership-conference-day-4-international-day/?mc_id=11
DESCRIPTION;ENCODING=QUOTED-PRINTABLE:The conference starts at 10 A.M. for Sunday School, 11 A.M. for the Morning Service, and 6 P.M. for the Evening Service. The International Day Lunch will be served after the Morning Service.
X-FUNAMBOL-ALLDAY: 1
X-MICROSOFT-CDO-ALLDAYEVENT: TRUE

END:VEVENT
END:VCALENDAR