BEGIN:VCALENDAR
VERSION:2.0
METHOD:PUBLISH
PRODID:-//Accessible Web Design//My Calendar//http://www.joedolson.com//v//EN';
BEGIN:VEVENT
UID:10-5
LOCATION:
SUMMARY:Leadership Conference Day 3
DTSTAMP:20230923
ORGANIZER;CN=Faith Baptist Church:MAILTO:kidzmenuz@gmail.com
DTSTART:20230923
DTEND:20230924
CATEGORIES:General
URL;VALUE=URI:https://faithbaptistlc.com/mc-events/leadership-conference-day-3/?mc_id=10
DESCRIPTION;ENCODING=QUOTED-PRINTABLE:The conference starts at 11 A.M in the morning and 7 P.M. in the evening.
X-FUNAMBOL-ALLDAY: 1
X-MICROSOFT-CDO-ALLDAYEVENT: TRUE

END:VEVENT
END:VCALENDAR